Package: SCAN.UPC Version: 2.42.0 Command: /home/biocbuild/bbs-3.17-bioc/R/bin/R CMD build --keep-empty-dirs --no-resave-data SCAN.UPC StartedAt: 2023-10-15 18:21:20 -0400 (Sun, 15 Oct 2023) EndedAt: 2023-10-15 18:21:55 -0400 (Sun, 15 Oct 2023) EllapsedTime: 34.9 seconds RetCode: 0 Status: OK PackageFile: SCAN.UPC_2.42.0.tar.gz PackageFileSize: 555.6 KiB