Package: SC3 Version: 1.28.3 Command: /home/biocbuild/bbs-3.17-bioc/R/bin/R CMD INSTALL SC3 StartedAt: 2023-10-15 15:26:33 -0400 (Sun, 15 Oct 2023) EndedAt: 2023-10-15 15:27:16 -0400 (Sun, 15 Oct 2023) EllapsedTime: 43.2 seconds RetCode: 0 Status: OK