Package: SBGNview Version: 1.14.0 Command: F:\biocbuild\bbs-3.17-bioc\R\bin\R.exe CMD check --no-multiarch --install=check:SBGNview.install-out.txt --library=F:\biocbuild\bbs-3.17-bioc\R\library --no-vignettes --timings SBGNview_1.14.0.tar.gz StartedAt: 2023-10-16 06:22:52 -0400 (Mon, 16 Oct 2023) EndedAt: 2023-10-16 06:27:39 -0400 (Mon, 16 Oct 2023) EllapsedTime: 286.7 seconds RetCode: 0 Status: OK CheckDir: SBGNview.Rcheck Warnings: 0