Package: SBGNview Version: 1.14.0 Command: chmod a+r SBGNview -R && F:\biocbuild\bbs-3.17-bioc\R\bin\R.exe CMD build --keep-empty-dirs --no-resave-data SBGNview StartedAt: 2023-10-15 22:02:02 -0400 (Sun, 15 Oct 2023) EndedAt: 2023-10-15 22:04:54 -0400 (Sun, 15 Oct 2023) EllapsedTime: 172.1 seconds RetCode: 0 Status: OK PackageFile: SBGNview_1.14.0.tar.gz PackageFileSize: 1.682 MiB