Package: SBGNview Version: 1.14.0 Command: rm -rf SBGNview.buildbin-libdir && mkdir SBGNview.buildbin-libdir && F:\biocbuild\bbs-3.17-bioc\R\bin\R.exe CMD INSTALL --build --library=SBGNview.buildbin-libdir SBGNview_1.14.0.tar.gz StartedAt: 2023-10-16 09:28:03 -0400 (Mon, 16 Oct 2023) EndedAt: 2023-10-16 09:28:47 -0400 (Mon, 16 Oct 2023) EllapsedTime: 43.8 seconds RetCode: 0 Status: OK PackageFile: SBGNview_1.14.0.zip PackageFileSize: 2.074 MiB