Package: SBGNview Version: 1.14.0 Command: /home/biocbuild/bbs-3.17-bioc/R/bin/R CMD check --install=check:SBGNview.install-out.txt --library=/home/biocbuild/bbs-3.17-bioc/R/site-library --timings SBGNview_1.14.0.tar.gz StartedAt: 2023-10-16 00:43:40 -0400 (Mon, 16 Oct 2023) EndedAt: 2023-10-16 00:50:23 -0400 (Mon, 16 Oct 2023) EllapsedTime: 402.7 seconds RetCode: 0 Status: OK CheckDir: SBGNview.Rcheck Warnings: 0