Package: SBGNview Version: 1.14.0 Command: /Library/Frameworks/R.framework/Resources/bin/R CMD build --keep-empty-dirs --no-resave-data SBGNview StartedAt: 2023-10-15 20:56:10 -0400 (Sun, 15 Oct 2023) EndedAt: 2023-10-15 21:00:54 -0400 (Sun, 15 Oct 2023) EllapsedTime: 283.9 seconds RetCode: 0 Status: OK PackageFile: SBGNview_1.14.0.tar.gz PackageFileSize: 1.676 MiB