Package: SBGNview Version: 1.14.0 Command: rm -rf SBGNview.buildbin-libdir && mkdir SBGNview.buildbin-libdir && /Users/biocbuild/BBS/utils/build-universal.sh SBGNview_1.14.0.tar.gz /Library/Frameworks/R.framework/Resources/bin/R SBGNview.buildbin-libdir StartedAt: 2023-10-16 10:08:22 -0400 (Mon, 16 Oct 2023) EndedAt: 2023-10-16 10:10:15 -0400 (Mon, 16 Oct 2023) EllapsedTime: 113.6 seconds RetCode: 0 Status: OK PackageFile: SBGNview_1.14.0.tgz PackageFileSize: 2.074 MiB