Package: SANTA Version: 2.36.0 Command: F:\biocbuild\bbs-3.17-bioc\R\bin\R.exe CMD check --no-multiarch --install=check:SANTA.install-out.txt --library=F:\biocbuild\bbs-3.17-bioc\R\library --no-vignettes --timings SANTA_2.36.0.tar.gz StartedAt: 2023-10-16 06:22:41 -0400 (Mon, 16 Oct 2023) EndedAt: 2023-10-16 06:23:48 -0400 (Mon, 16 Oct 2023) EllapsedTime: 67.3 seconds RetCode: 0 Status: OK CheckDir: SANTA.Rcheck Warnings: 0