Package: SANTA Version: 2.36.0 Command: chmod a+r SANTA -R && F:\biocbuild\bbs-3.17-bioc\R\bin\R.exe CMD build --keep-empty-dirs --no-resave-data SANTA StartedAt: 2023-10-15 22:01:35 -0400 (Sun, 15 Oct 2023) EndedAt: 2023-10-15 22:01:48 -0400 (Sun, 15 Oct 2023) EllapsedTime: 13.0 seconds RetCode: 0 Status: OK PackageFile: SANTA_2.36.0.tar.gz PackageFileSize: 4.372 MiB