Package: SANTA Version: 2.36.0 Command: rm -rf SANTA.buildbin-libdir && mkdir SANTA.buildbin-libdir && F:\biocbuild\bbs-3.17-bioc\R\bin\R.exe CMD INSTALL --build --library=SANTA.buildbin-libdir SANTA_2.36.0.tar.gz StartedAt: 2023-10-16 09:27:54 -0400 (Mon, 16 Oct 2023) EndedAt: 2023-10-16 09:28:06 -0400 (Mon, 16 Oct 2023) EllapsedTime: 11.8 seconds RetCode: 0 Status: OK PackageFile: SANTA_2.36.0.zip PackageFileSize: 4.142 MiB