Package: SANTA Version: 2.36.0 Command: /home/biocbuild/bbs-3.17-bioc/R/bin/R CMD INSTALL SANTA StartedAt: 2023-10-15 15:08:22 -0400 (Sun, 15 Oct 2023) EndedAt: 2023-10-15 15:08:37 -0400 (Sun, 15 Oct 2023) EllapsedTime: 15.4 seconds RetCode: 0 Status: OK