Package: SANTA Version: 2.36.0 Command: /home/biocbuild/bbs-3.17-bioc/R/bin/R CMD check --install=check:SANTA.install-out.txt --library=/home/biocbuild/bbs-3.17-bioc/R/site-library --timings SANTA_2.36.0.tar.gz StartedAt: 2023-10-16 00:43:15 -0400 (Mon, 16 Oct 2023) EndedAt: 2023-10-16 00:44:10 -0400 (Mon, 16 Oct 2023) EllapsedTime: 54.6 seconds RetCode: 0 Status: OK CheckDir: SANTA.Rcheck Warnings: 0