Package: SANTA Version: 2.36.0 Command: /home/biocbuild/bbs-3.17-bioc/R/bin/R CMD build --keep-empty-dirs --no-resave-data SANTA StartedAt: 2023-10-15 18:20:35 -0400 (Sun, 15 Oct 2023) EndedAt: 2023-10-15 18:20:44 -0400 (Sun, 15 Oct 2023) EllapsedTime: 8.3 seconds RetCode: 0 Status: OK PackageFile: SANTA_2.36.0.tar.gz PackageFileSize: 4.372 MiB