Package: SAIGEgds Version: 2.0.1 Command: rm -rf SAIGEgds.buildbin-libdir && mkdir SAIGEgds.buildbin-libdir && F:\biocbuild\bbs-3.17-bioc\R\bin\R.exe CMD INSTALL --build --library=SAIGEgds.buildbin-libdir SAIGEgds_2.0.1.tar.gz StartedAt: 2023-10-16 09:27:43 -0400 (Mon, 16 Oct 2023) EndedAt: 2023-10-16 09:29:25 -0400 (Mon, 16 Oct 2023) EllapsedTime: 102.1 seconds RetCode: 0 Status: OK PackageFile: SAIGEgds_2.0.1.zip PackageFileSize: 2.549 MiB