Package: SAIGEgds Version: 2.0.1 Command: /home/biocbuild/bbs-3.17-bioc/R/bin/R CMD check --install=check:SAIGEgds.install-out.txt --library=/home/biocbuild/bbs-3.17-bioc/R/site-library --timings SAIGEgds_2.0.1.tar.gz StartedAt: 2023-10-16 00:42:29 -0400 (Mon, 16 Oct 2023) EndedAt: 2023-10-16 00:45:19 -0400 (Mon, 16 Oct 2023) EllapsedTime: 169.5 seconds RetCode: 0 Status: OK CheckDir: SAIGEgds.Rcheck Warnings: 0