Package: SAIGEgds Version: 2.0.1 Command: /Library/Frameworks/R.framework/Resources/bin/R CMD check --install=check:SAIGEgds.install-out.txt --library=/Library/Frameworks/R.framework/Resources/library --no-vignettes --timings SAIGEgds_2.0.1.tar.gz StartedAt: 2023-10-16 06:32:08 -0400 (Mon, 16 Oct 2023) EndedAt: 2023-10-16 06:37:43 -0400 (Mon, 16 Oct 2023) EllapsedTime: 334.7 seconds RetCode: 0 Status: OK CheckDir: SAIGEgds.Rcheck Warnings: 0