Package: SAIGEgds Version: 2.0.1 Command: /Library/Frameworks/R.framework/Resources/bin/R CMD build --keep-empty-dirs --no-resave-data SAIGEgds StartedAt: 2023-10-15 20:55:24 -0400 (Sun, 15 Oct 2023) EndedAt: 2023-10-15 20:58:23 -0400 (Sun, 15 Oct 2023) EllapsedTime: 179.5 seconds RetCode: 0 Status: OK PackageFile: SAIGEgds_2.0.1.tar.gz PackageFileSize: 1.887 MiB