Package: SAIGEgds Version: 2.0.1 Command: rm -rf SAIGEgds.buildbin-libdir && mkdir SAIGEgds.buildbin-libdir && /Users/biocbuild/BBS/utils/build-universal.sh SAIGEgds_2.0.1.tar.gz /Library/Frameworks/R.framework/Resources/bin/R SAIGEgds.buildbin-libdir StartedAt: 2023-10-16 10:08:07 -0400 (Mon, 16 Oct 2023) EndedAt: 2023-10-16 10:11:21 -0400 (Mon, 16 Oct 2023) EllapsedTime: 194.2 seconds RetCode: 0 Status: OK PackageFile: SAIGEgds_2.0.1.tgz PackageFileSize: 2.275 MiB