Package: S4Vectors Version: 0.38.2 Command: chmod a+r S4Vectors -R && F:\biocbuild\bbs-3.17-bioc\R\bin\R.exe CMD build --keep-empty-dirs --no-resave-data S4Vectors StartedAt: 2023-10-15 22:00:44 -0400 (Sun, 15 Oct 2023) EndedAt: 2023-10-15 22:02:27 -0400 (Sun, 15 Oct 2023) EllapsedTime: 102.9 seconds RetCode: 0 Status: OK PackageFile: S4Vectors_0.38.2.tar.gz PackageFileSize: 819.7 KiB