Package: S4Vectors Version: 0.38.2 Command: /home/biocbuild/bbs-3.17-bioc/R/bin/R CMD INSTALL S4Vectors StartedAt: 2023-10-15 15:08:46 -0400 (Sun, 15 Oct 2023) EndedAt: 2023-10-15 15:09:08 -0400 (Sun, 15 Oct 2023) EllapsedTime: 22.2 seconds RetCode: 0 Status: OK