Package: S4Vectors Version: 0.38.2 Command: /home/biocbuild/bbs-3.17-bioc/R/bin/R CMD check --install=check:S4Vectors.install-out.txt --library=/home/biocbuild/bbs-3.17-bioc/R/site-library --timings S4Vectors_0.38.2.tar.gz StartedAt: 2023-10-16 00:42:14 -0400 (Mon, 16 Oct 2023) EndedAt: 2023-10-16 00:44:37 -0400 (Mon, 16 Oct 2023) EllapsedTime: 142.5 seconds RetCode: 0 Status: WARNINGS CheckDir: S4Vectors.Rcheck Warnings: 3