Package: S4Vectors Version: 0.38.2 Command: /home/biocbuild/bbs-3.17-bioc/R/bin/R CMD build --keep-empty-dirs --no-resave-data S4Vectors StartedAt: 2023-10-15 18:20:21 -0400 (Sun, 15 Oct 2023) EndedAt: 2023-10-15 18:21:20 -0400 (Sun, 15 Oct 2023) EllapsedTime: 59.0 seconds RetCode: 0 Status: OK PackageFile: S4Vectors_0.38.2.tar.gz PackageFileSize: 817.7 KiB