Package: Rtreemix Version: 1.62.0 Command: /home/biocbuild/bbs-3.17-bioc/R/bin/R CMD INSTALL Rtreemix StartedAt: 2023-10-15 15:28:00 -0400 (Sun, 15 Oct 2023) EndedAt: 2023-10-15 15:28:48 -0400 (Sun, 15 Oct 2023) EllapsedTime: 48.4 seconds RetCode: 0 Status: OK