Package: Rtreemix Version: 1.62.0 Command: /Library/Frameworks/R.framework/Resources/bin/R CMD INSTALL Rtreemix StartedAt: 2023-10-15 15:47:12 -0400 (Sun, 15 Oct 2023) EndedAt: 2023-10-15 15:50:12 -0400 (Sun, 15 Oct 2023) EllapsedTime: 180.5 seconds RetCode: 0 Status: OK