Package: Rtreemix Version: 1.62.0 Command: /Library/Frameworks/R.framework/Resources/bin/R CMD check --install=check:Rtreemix.install-out.txt --library=/Library/Frameworks/R.framework/Resources/library --no-vignettes --timings Rtreemix_1.62.0.tar.gz StartedAt: 2023-10-16 06:30:17 -0400 (Mon, 16 Oct 2023) EndedAt: 2023-10-16 06:32:33 -0400 (Mon, 16 Oct 2023) EllapsedTime: 136.5 seconds RetCode: 0 Status: WARNINGS CheckDir: Rtreemix.Rcheck Warnings: 1