Package: Rtreemix Version: 1.62.0 Command: /Library/Frameworks/R.framework/Resources/bin/R CMD build --keep-empty-dirs --no-resave-data Rtreemix StartedAt: 2023-10-15 20:53:14 -0400 (Sun, 15 Oct 2023) EndedAt: 2023-10-15 20:55:32 -0400 (Sun, 15 Oct 2023) EllapsedTime: 138.7 seconds RetCode: 0 Status: OK PackageFile: Rtreemix_1.62.0.tar.gz PackageFileSize: 883.3 KiB