git_url: https://git.bioconductor.org/packages/Rtreemix git_branch: RELEASE_3_17 git_last_commit: efad34c git_last_commit_date: 2023-04-25 09:46:07 -0400 (Tue, 25 Apr 2023) Package: Rtreemix Version: 1.62.0 Maintainer: Jasmina Bogojeska MaintainerEmail: jasmina.bogojeska at gmail.com