Package: Rtpca Version: 1.10.0 Command: rm -rf Rtpca.buildbin-libdir && mkdir Rtpca.buildbin-libdir && F:\biocbuild\bbs-3.17-bioc\R\bin\R.exe CMD INSTALL --build --library=Rtpca.buildbin-libdir Rtpca_1.10.0.tar.gz StartedAt: 2023-10-16 09:26:57 -0400 (Mon, 16 Oct 2023) EndedAt: 2023-10-16 09:27:15 -0400 (Mon, 16 Oct 2023) EllapsedTime: 18.0 seconds RetCode: 0 Status: OK PackageFile: Rtpca_1.10.0.zip PackageFileSize: 2.27 MiB