Package: Rsubread Version: 2.14.2 Command: /home/biocbuild/bbs-3.17-bioc/R/bin/R CMD build --keep-empty-dirs --no-resave-data Rsubread StartedAt: 2023-10-15 18:18:42 -0400 (Sun, 15 Oct 2023) EndedAt: 2023-10-15 18:26:55 -0400 (Sun, 15 Oct 2023) EllapsedTime: 492.9 seconds RetCode: 0 Status: OK PackageFile: Rsubread_2.14.2.tar.gz PackageFileSize: 12.83 MiB