Package: Rsamtools Version: 2.16.0 Command: chmod a+r Rsamtools -R && F:\biocbuild\bbs-3.17-bioc\R\bin\R.exe CMD build --keep-empty-dirs --no-resave-data Rsamtools StartedAt: 2023-10-15 21:57:37 -0400 (Sun, 15 Oct 2023) EndedAt: 2023-10-15 21:59:08 -0400 (Sun, 15 Oct 2023) EllapsedTime: 90.7 seconds RetCode: 0 Status: OK PackageFile: Rsamtools_2.16.0.tar.gz PackageFileSize: 2.783 MiB