Package: Rsamtools Version: 2.16.0 Command: rm -rf Rsamtools.buildbin-libdir && mkdir Rsamtools.buildbin-libdir && F:\biocbuild\bbs-3.17-bioc\R\bin\R.exe CMD INSTALL --build --library=Rsamtools.buildbin-libdir Rsamtools_2.16.0.tar.gz StartedAt: 2023-10-16 09:26:27 -0400 (Mon, 16 Oct 2023) EndedAt: 2023-10-16 09:27:52 -0400 (Mon, 16 Oct 2023) EllapsedTime: 84.7 seconds RetCode: 0 Status: OK PackageFile: Rsamtools_2.16.0.zip PackageFileSize: 7.665 MiB