Package: Rsamtools Version: 2.16.0 Command: /home/biocbuild/bbs-3.17-bioc/R/bin/R CMD check --install=check:Rsamtools.install-out.txt --library=/home/biocbuild/bbs-3.17-bioc/R/site-library --timings Rsamtools_2.16.0.tar.gz StartedAt: 2023-10-16 00:37:51 -0400 (Mon, 16 Oct 2023) EndedAt: 2023-10-16 00:40:38 -0400 (Mon, 16 Oct 2023) EllapsedTime: 167.1 seconds RetCode: 0 Status: WARNINGS CheckDir: Rsamtools.Rcheck Warnings: 2