Package: Rsamtools Version: 2.16.0 Command: /Library/Frameworks/R.framework/Resources/bin/R CMD check --install=check:Rsamtools.install-out.txt --library=/Library/Frameworks/R.framework/Resources/library --no-vignettes --timings Rsamtools_2.16.0.tar.gz StartedAt: 2023-10-16 06:24:40 -0400 (Mon, 16 Oct 2023) EndedAt: 2023-10-16 06:31:14 -0400 (Mon, 16 Oct 2023) EllapsedTime: 394.4 seconds RetCode: 0 Status: WARNINGS CheckDir: Rsamtools.Rcheck Warnings: 2