Package: Rsamtools Version: 2.16.0 Command: rm -rf Rsamtools.buildbin-libdir && mkdir Rsamtools.buildbin-libdir && /Users/biocbuild/BBS/utils/build-universal.sh Rsamtools_2.16.0.tar.gz /Library/Frameworks/R.framework/Resources/bin/R Rsamtools.buildbin-libdir StartedAt: 2023-10-16 10:06:46 -0400 (Mon, 16 Oct 2023) EndedAt: 2023-10-16 10:09:04 -0400 (Mon, 16 Oct 2023) EllapsedTime: 137.4 seconds RetCode: 0 Status: OK PackageFile: Rsamtools_2.16.0.tgz PackageFileSize: 4.005 MiB