Package: Rqc Version: 1.34.0 Command: rm -rf Rqc.buildbin-libdir && mkdir Rqc.buildbin-libdir && F:\biocbuild\bbs-3.17-bioc\R\bin\R.exe CMD INSTALL --build --library=Rqc.buildbin-libdir Rqc_1.34.0.tar.gz StartedAt: 2023-10-16 09:26:11 -0400 (Mon, 16 Oct 2023) EndedAt: 2023-10-16 09:27:34 -0400 (Mon, 16 Oct 2023) EllapsedTime: 83.3 seconds RetCode: 0 Status: OK PackageFile: Rqc_1.34.0.zip PackageFileSize: 1.06 MiB