Package: RolDE Version: 1.4.0 Command: rm -rf RolDE.buildbin-libdir && mkdir RolDE.buildbin-libdir && /Users/biocbuild/BBS/utils/build-universal.sh RolDE_1.4.0.tar.gz /Library/Frameworks/R.framework/Resources/bin/R RolDE.buildbin-libdir StartedAt: 2023-10-16 10:05:57 -0400 (Mon, 16 Oct 2023) EndedAt: 2023-10-16 10:07:10 -0400 (Mon, 16 Oct 2023) EllapsedTime: 72.4 seconds RetCode: 0 Status: OK PackageFile: RolDE_1.4.0.tgz PackageFileSize: 1.36 MiB