Package: RnaSeqSampleSize Version: 2.10.0 Command: F:\biocbuild\bbs-3.17-bioc\R\bin\R.exe CMD INSTALL RnaSeqSampleSize StartedAt: 2023-10-15 16:59:13 -0400 (Sun, 15 Oct 2023) EndedAt: 2023-10-15 17:00:18 -0400 (Sun, 15 Oct 2023) EllapsedTime: 65.5 seconds RetCode: 0 Status: OK