Package: RnaSeqSampleSize Version: 2.10.0 Command: F:\biocbuild\bbs-3.17-bioc\R\bin\R.exe CMD check --no-multiarch --install=check:RnaSeqSampleSize.install-out.txt --library=F:\biocbuild\bbs-3.17-bioc\R\library --no-vignettes --timings RnaSeqSampleSize_2.10.0.tar.gz StartedAt: 2023-10-16 06:10:02 -0400 (Mon, 16 Oct 2023) EndedAt: 2023-10-16 06:16:02 -0400 (Mon, 16 Oct 2023) EllapsedTime: 360.7 seconds RetCode: 0 Status: OK CheckDir: RnaSeqSampleSize.Rcheck Warnings: 0