Package: RnaSeqSampleSize Version: 2.10.0 Command: rm -rf RnaSeqSampleSize.buildbin-libdir && mkdir RnaSeqSampleSize.buildbin-libdir && F:\biocbuild\bbs-3.17-bioc\R\bin\R.exe CMD INSTALL --build --library=RnaSeqSampleSize.buildbin-libdir RnaSeqSampleSize_2.10.0.tar.gz StartedAt: 2023-10-16 09:25:32 -0400 (Mon, 16 Oct 2023) EndedAt: 2023-10-16 09:26:51 -0400 (Mon, 16 Oct 2023) EllapsedTime: 78.6 seconds RetCode: 0 Status: OK PackageFile: RnaSeqSampleSize_2.10.0.zip PackageFileSize: 660.6 KiB