Package: RnaSeqSampleSize Version: 2.10.0 Command: /home/biocbuild/bbs-3.17-bioc/R/bin/R CMD INSTALL RnaSeqSampleSize StartedAt: 2023-10-15 15:46:14 -0400 (Sun, 15 Oct 2023) EndedAt: 2023-10-15 15:47:07 -0400 (Sun, 15 Oct 2023) EllapsedTime: 53.4 seconds RetCode: 0 Status: OK