Package: RnaSeqSampleSize Version: 2.10.0 Command: /home/biocbuild/bbs-3.17-bioc/R/bin/R CMD build --keep-empty-dirs --no-resave-data RnaSeqSampleSize StartedAt: 2023-10-15 18:16:05 -0400 (Sun, 15 Oct 2023) EndedAt: 2023-10-15 18:17:59 -0400 (Sun, 15 Oct 2023) EllapsedTime: 114.0 seconds RetCode: 0 Status: OK PackageFile: RnaSeqSampleSize_2.10.0.tar.gz PackageFileSize: 236.1 KiB