Package: RnaSeqSampleSize Version: 2.10.0 Command: /Library/Frameworks/R.framework/Resources/bin/R CMD INSTALL RnaSeqSampleSize StartedAt: 2023-10-15 16:24:54 -0400 (Sun, 15 Oct 2023) EndedAt: 2023-10-15 16:27:51 -0400 (Sun, 15 Oct 2023) EllapsedTime: 176.8 seconds RetCode: 0 Status: OK