Package: RnaSeqSampleSize Version: 2.10.0 Command: /Library/Frameworks/R.framework/Resources/bin/R CMD build --keep-empty-dirs --no-resave-data RnaSeqSampleSize StartedAt: 2023-10-15 20:47:39 -0400 (Sun, 15 Oct 2023) EndedAt: 2023-10-15 20:52:11 -0400 (Sun, 15 Oct 2023) EllapsedTime: 272.7 seconds RetCode: 0 Status: OK PackageFile: RnaSeqSampleSize_2.10.0.tar.gz PackageFileSize: 235.9 KiB