Package: RnBeads Version: 2.18.1 Command: /home/biocbuild/bbs-3.17-bioc/R/bin/R CMD check --install=check:RnBeads.install-out.txt --library=/home/biocbuild/bbs-3.17-bioc/R/site-library --timings RnBeads_2.18.1.tar.gz StartedAt: 2023-10-16 00:33:41 -0400 (Mon, 16 Oct 2023) EndedAt: 2023-10-16 00:45:16 -0400 (Mon, 16 Oct 2023) EllapsedTime: 694.4 seconds RetCode: 0 Status: OK CheckDir: RnBeads.Rcheck Warnings: 0