Package: RnBeads Version: 2.18.1 Command: /home/biocbuild/bbs-3.17-bioc/R/bin/R CMD build --keep-empty-dirs --no-resave-data RnBeads StartedAt: 2023-10-15 18:16:08 -0400 (Sun, 15 Oct 2023) EndedAt: 2023-10-15 18:18:16 -0400 (Sun, 15 Oct 2023) EllapsedTime: 128.6 seconds RetCode: 0 Status: OK PackageFile: RnBeads_2.18.1.tar.gz PackageFileSize: 7.03 MiB