Package: Rmmquant Version: 1.18.0 Command: chmod a+r Rmmquant -R && F:\biocbuild\bbs-3.17-bioc\R\bin\R.exe CMD build --keep-empty-dirs --no-resave-data Rmmquant StartedAt: 2023-10-15 21:52:00 -0400 (Sun, 15 Oct 2023) EndedAt: 2023-10-15 21:54:24 -0400 (Sun, 15 Oct 2023) EllapsedTime: 144.2 seconds RetCode: 0 Status: OK PackageFile: Rmmquant_1.18.0.tar.gz PackageFileSize: 45.34 KiB