Package: Rmmquant Version: 1.18.0 Command: rm -rf Rmmquant.buildbin-libdir && mkdir Rmmquant.buildbin-libdir && F:\biocbuild\bbs-3.17-bioc\R\bin\R.exe CMD INSTALL --build --library=Rmmquant.buildbin-libdir Rmmquant_1.18.0.tar.gz StartedAt: 2023-10-16 09:24:40 -0400 (Mon, 16 Oct 2023) EndedAt: 2023-10-16 09:25:51 -0400 (Mon, 16 Oct 2023) EllapsedTime: 71.2 seconds RetCode: 0 Status: OK PackageFile: Rmmquant_1.18.0.zip PackageFileSize: 819.7 KiB