Package: Rmmquant Version: 1.18.0 Command: /home/biocbuild/bbs-3.17-bioc/R/bin/R CMD check --install=check:Rmmquant.install-out.txt --library=/home/biocbuild/bbs-3.17-bioc/R/site-library --timings Rmmquant_1.18.0.tar.gz StartedAt: 2023-10-16 00:29:36 -0400 (Mon, 16 Oct 2023) EndedAt: 2023-10-16 00:34:34 -0400 (Mon, 16 Oct 2023) EllapsedTime: 298.1 seconds RetCode: 0 Status: OK CheckDir: Rmmquant.Rcheck Warnings: 0