Package: Rmmquant Version: 1.18.0 Command: /Library/Frameworks/R.framework/Resources/bin/R CMD INSTALL Rmmquant StartedAt: 2023-10-15 15:52:12 -0400 (Sun, 15 Oct 2023) EndedAt: 2023-10-15 15:55:21 -0400 (Sun, 15 Oct 2023) EllapsedTime: 189.2 seconds RetCode: 0 Status: OK